BEGIN:VCALENDAR
VERSION:2.0
PRODID:-//www.rmdc.net//NONSGML kigkonsult.se iCalcreator 2.30.10//
CALSCALE:GREGORIAN
METHOD:PUBLISH
UID:d8c6a948-ba2a-4f49-8e95-08d133f94f62
X-WR-CALDESC:Join us for May's Birthday lunch today at the Helena Senior Ce
 nter!  If you are a senior center member and a May birthday\, today\, your
  meal is free!  Lunch today is Italian sausage in creamy basil mustard sau
 ce over cavatappi pasta\, cauliflower\, green beans\, mandarin oranges\, a
 nd of course ... cake and ice cream!  Looking forward to seeing you!
X-WR-RELCALID:543856a041ffad90271926c051126eea
X-WR-TIMEZONE:America/Denver
BEGIN:VTIMEZONE
TZID:America/Denver
BEGIN:STANDARD
TZNAME:MST
DTSTART:20211107T020000
TZOFFSETFROM:-0600
TZOFFSETTO:-0700
RDATE:20221106T020000
RDATE:20231105T020000
END:STANDARD
BEGIN:DAYLIGHT
TZNAME:MDT
DTSTART:20220313T020000
TZOFFSETFROM:-0700
TZOFFSETTO:-0600
RDATE:20230312T020000
END:DAYLIGHT
END:VTIMEZONE
BEGIN:VEVENT
UID:7ed39117-35cf-4900-abaf-0c808989ab52
DTSTAMP:20260422T142223Z
DESCRIPTION:Join us for May's Birthday lunch today at the Helena Senior Cen
 ter!  If you are a senior center member and a May birthday\, today\, your 
 meal is free!  Lunch today is Italian sausage in creamy basil mustard sauc
 e over cavatappi pasta\, cauliflower\, green beans\, mandarin oranges\, an
 d of course ... cake and ice cream!  Looking forward to seeing you!
DTSTART;TZID=America/Denver:20220513T110000
DTEND;TZID=America/Denver:20220513T120000
LOCATION:Helena Senior Center Dining Room
SUMMARY:Birthday Dinner
END:VEVENT
END:VCALENDAR
