BEGIN:VCALENDAR
VERSION:2.0
PRODID:-//www.rmdc.net//NONSGML kigkonsult.se iCalcreator 2.30.10//
CALSCALE:GREGORIAN
METHOD:PUBLISH
UID:ee0e92bb-da8b-4ae0-a385-44a991849f1a
X-WR-CALDESC:
X-WR-RELCALID:2f00286fdff3b98c72232c3d0d92ad29
X-WR-TIMEZONE:America/Denver
BEGIN:VTIMEZONE
TZID:America/Denver
BEGIN:STANDARD
TZNAME:MST
DTSTART:20211107T020000
TZOFFSETFROM:-0600
TZOFFSETTO:-0700
RDATE:20221106T020000
RDATE:20231105T020000
END:STANDARD
BEGIN:DAYLIGHT
TZNAME:MDT
DTSTART:20220313T020000
TZOFFSETFROM:-0700
TZOFFSETTO:-0600
RDATE:20230312T020000
END:DAYLIGHT
END:VTIMEZONE
BEGIN:VEVENT
UID:fd3a43d3-a9b6-45ea-a1de-df9dab4122ce
DTSTAMP:20260422T114722Z
DESCRIPTION:
DTSTART;TZID=America/Denver:20220705T093000
DTEND;TZID=America/Denver:20220705T110000
LOCATION:Neighborhood Center Dance Floor
SUMMARY:Line Dancing
END:VEVENT
END:VCALENDAR
