BEGIN:VCALENDAR
VERSION:2.0
PRODID:-//www.rmdc.net//NONSGML kigkonsult.se iCalcreator 2.30.10//
CALSCALE:GREGORIAN
METHOD:PUBLISH
UID:24e7033d-5f7c-4a7e-a72b-27bb039159a8
X-WR-CALDESC:Rocky Mountain Development Council\, Inc. is offering a three-
 part Homebuyer Education Class on July 26\, 27\, and 28. The three session
 s will run from 5:30-8:00 PM. To receive certification\, attendance of thr
 ee sessions is required.\n\nWHAT IS HOMEBUYER EDUCATION CLASS FOR?\nHomebu
 yer Education classes provide in-depth information on many aspects of home
 ownership including:\n- Budgeting\n- Finding a home\n- Choosing a lender/c
 losing on a loan\n- Homeowner’s insurance\n- Home inspection & maintenance
 \n- Energy savings\n\n* Please note that class registration is nonrefundab
 le. Registration also requires a 60-minute intake/counseling appointment p
 rior to class. \n\n
X-WR-RELCALID:7367957faacc741a8f37295df8b77130
X-WR-TIMEZONE:America/Denver
BEGIN:VTIMEZONE
TZID:America/Denver
BEGIN:STANDARD
TZNAME:MST
DTSTART:20211107T020000
TZOFFSETFROM:-0600
TZOFFSETTO:-0700
RDATE:20221106T020000
RDATE:20231105T020000
END:STANDARD
BEGIN:DAYLIGHT
TZNAME:MDT
DTSTART:20220313T020000
TZOFFSETFROM:-0700
TZOFFSETTO:-0600
RDATE:20230312T020000
END:DAYLIGHT
END:VTIMEZONE
BEGIN:VEVENT
UID:da2e22ad-77d5-4f1a-9478-77ffe65ac20c
DTSTAMP:20260422T115212Z
DESCRIPTION:Rocky Mountain Development Council\, Inc. is offering a three-p
 art Homebuyer Education Class on July 26\, 27\, and 28. The three sessions
  will run from 5:30-8:00 PM. To receive certification\, attendance of thre
 e sessions is required.\n\nWHAT IS HOMEBUYER EDUCATION CLASS FOR?\nHomebuy
 er Education classes provide in-depth information on many aspects of homeo
 wnership including:\n- Budgeting\n- Finding a home\n- Choosing a lender/cl
 osing on a loan\n- Homeowner’s insurance\n- Home inspection & maintenance
 \n- Energy savings\n\n* Please note that class registration is nonrefundab
 le. Registration also requires a 60-minute intake/counseling appointment p
 rior to class. \n\n
DTSTART;TZID=America/Denver:20220726T173000
DTEND;TZID=America/Denver:20220728T200000
LOCATION:Virtual Event - A Zoom link will be emailed after registration.
SUMMARY:Rocky's Homebuyer Education Class - 3 Part
END:VEVENT
END:VCALENDAR
