BEGIN:VCALENDAR
VERSION:2.0
PRODID:-//www.rmdc.net//NONSGML kigkonsult.se iCalcreator 2.30.10//
CALSCALE:GREGORIAN
METHOD:PUBLISH
UID:f716100c-9bb5-400c-aa8d-cfb3a611d1e9
X-WR-CALDESC:
X-WR-RELCALID:4321c6ee8fbba07b086c345f44ef40f6
X-WR-TIMEZONE:America/Denver
BEGIN:VTIMEZONE
TZID:America/Denver
BEGIN:STANDARD
TZNAME:MST
DTSTART:20211107T020000
TZOFFSETFROM:-0600
TZOFFSETTO:-0700
RDATE:20221106T020000
RDATE:20231105T020000
END:STANDARD
BEGIN:DAYLIGHT
TZNAME:MDT
DTSTART:20220313T020000
TZOFFSETFROM:-0700
TZOFFSETTO:-0600
RDATE:20230312T020000
END:DAYLIGHT
END:VTIMEZONE
BEGIN:VEVENT
UID:fc0b9b18-66e9-4560-87cd-cfd0c58dbe99
DTSTAMP:20260422T102052Z
DESCRIPTION:
DTSTART;TZID=America/Denver:20220823T123000
DTEND;TZID=America/Denver:20220823T143000
LOCATION:Helena Senior Center Parlor
SUMMARY:Hand and Foot
END:VEVENT
END:VCALENDAR
