BEGIN:VCALENDAR
VERSION:2.0
PRODID:-//www.rmdc.net//NONSGML kigkonsult.se iCalcreator 2.30.10//
CALSCALE:GREGORIAN
METHOD:PUBLISH
UID:500be5db-ead2-4c3a-b017-b35a5976710f
X-WR-CALDESC:
X-WR-RELCALID:f80af34c2434464d13d5c80adebf7fc3
X-WR-TIMEZONE:America/Denver
BEGIN:VTIMEZONE
TZID:America/Denver
BEGIN:STANDARD
TZNAME:MST
DTSTART:20211107T020000
TZOFFSETFROM:-0600
TZOFFSETTO:-0700
RDATE:20221106T020000
RDATE:20231105T020000
END:STANDARD
BEGIN:DAYLIGHT
TZNAME:MDT
DTSTART:20220313T020000
TZOFFSETFROM:-0700
TZOFFSETTO:-0600
RDATE:20230312T020000
END:DAYLIGHT
END:VTIMEZONE
BEGIN:VEVENT
UID:f18e4f9f-cc8c-4d3c-98f1-fdd4cda93531
DTSTAMP:20260422T102106Z
DESCRIPTION:
DTSTART;TZID=America/Denver:20220825T130000
DTEND;TZID=America/Denver:20220825T150000
LOCATION:Neighborhood Center Dance Floor
SUMMARY:Wood Carving
END:VEVENT
END:VCALENDAR
