BEGIN:VCALENDAR
VERSION:2.0
PRODID:-//www.rmdc.net//NONSGML kigkonsult.se iCalcreator 2.30.10//
CALSCALE:GREGORIAN
METHOD:PUBLISH
UID:9db0bbaf-799f-48b4-9214-8b0dfed57d36
X-WR-CALDESC:
X-WR-RELCALID:c8c3f5b504a1066b9c12ef07af9fa86a
X-WR-TIMEZONE:America/Denver
BEGIN:VTIMEZONE
TZID:America/Denver
BEGIN:STANDARD
TZNAME:MST
DTSTART:20211107T020000
TZOFFSETFROM:-0600
TZOFFSETTO:-0700
RDATE:20221106T020000
RDATE:20231105T020000
END:STANDARD
BEGIN:DAYLIGHT
TZNAME:MDT
DTSTART:20220313T020000
TZOFFSETFROM:-0700
TZOFFSETTO:-0600
RDATE:20230312T020000
END:DAYLIGHT
END:VTIMEZONE
BEGIN:VEVENT
UID:3e20f60b-e3c5-4184-b0c6-0a6f3eca8f22
DTSTAMP:20260422T084313Z
DESCRIPTION:
DTSTART;TZID=America/Denver:20220902T103000
DTEND;TZID=America/Denver:20220902T111500
LOCATION:Neighborhood Center Card Room
SUMMARY:Jeanie's Arthritis Foundation Exercise Class
END:VEVENT
END:VCALENDAR
