BEGIN:VCALENDAR
VERSION:2.0
PRODID:-//www.rmdc.net//NONSGML kigkonsult.se iCalcreator 2.30.10//
CALSCALE:GREGORIAN
METHOD:PUBLISH
UID:62ec7d5b-56df-45ef-8746-65bbe4335919
X-WR-CALDESC:Stepping On begins Monday\, August 15 and runs through Monday\
 , October 3.  Taught by certified instructors from Rocky's Agency on Aging
 \, Stepping On is an evidence-based class that will be held in the Card Ro
 om of the Helena Senior Center from 2-5 pm.  To learn more\, contact Miche
 le Mathot by phone (406) 441-3985 or by email mmathot@rmdc.net.
X-WR-RELCALID:a436c130b57fdd63252104c904225e5c
X-WR-TIMEZONE:America/Denver
BEGIN:VTIMEZONE
TZID:America/Denver
BEGIN:STANDARD
TZNAME:MST
DTSTART:20211107T020000
TZOFFSETFROM:-0600
TZOFFSETTO:-0700
RDATE:20221106T020000
RDATE:20231105T020000
END:STANDARD
BEGIN:DAYLIGHT
TZNAME:MDT
DTSTART:20220313T020000
TZOFFSETFROM:-0700
TZOFFSETTO:-0600
RDATE:20230312T020000
RDATE:20240310T020000
END:DAYLIGHT
END:VTIMEZONE
BEGIN:VEVENT
UID:97f60e62-dc12-4351-9e86-9092c3c44da6
DTSTAMP:20260422T083929Z
DESCRIPTION:Stepping On begins Monday\, August 15 and runs through Monday\,
  October 3.  Taught by certified instructors from Rocky's Agency on Aging\
 , Stepping On is an evidence-based class that will be held in the Card Roo
 m of the Helena Senior Center from 2-5 pm.  To learn more\, contact Michel
 e Mathot by phone (406) 441-3985 or by email mmathot@rmdc.net.
DTSTART;TZID=America/Denver:20220926T140000
DTEND;TZID=America/Denver:20220926T170000
LOCATION:
SUMMARY:Stepping On
END:VEVENT
END:VCALENDAR
