BEGIN:VCALENDAR
VERSION:2.0
PRODID:-//www.rmdc.net//NONSGML kigkonsult.se iCalcreator 2.30.10//
CALSCALE:GREGORIAN
METHOD:PUBLISH
UID:2cd36de8-af4f-4d04-9d87-d41c8615850e
X-WR-CALDESC:
X-WR-RELCALID:1d7e9aa84c4d88a22ba6e1c9ebcd733a
X-WR-TIMEZONE:America/Denver
BEGIN:VTIMEZONE
TZID:America/Denver
BEGIN:STANDARD
TZNAME:MST
DTSTART:20211107T020000
TZOFFSETFROM:-0600
TZOFFSETTO:-0700
RDATE:20221106T020000
RDATE:20231105T020000
END:STANDARD
BEGIN:DAYLIGHT
TZNAME:MDT
DTSTART:20220313T020000
TZOFFSETFROM:-0700
TZOFFSETTO:-0600
RDATE:20230312T020000
RDATE:20240310T020000
END:DAYLIGHT
END:VTIMEZONE
BEGIN:VEVENT
UID:ed778782-d098-45d4-bd19-b02a07645cab
DTSTAMP:20260422T071054Z
DESCRIPTION:
DTSTART;TZID=America/Denver:20221011T123000
DTEND;TZID=America/Denver:20221011T143000
LOCATION:Helena Senior Center Parlor
SUMMARY:Hand and Foot
END:VEVENT
END:VCALENDAR
