BEGIN:VCALENDAR
VERSION:2.0
PRODID:-//www.rmdc.net//NONSGML kigkonsult.se iCalcreator 2.30.10//
CALSCALE:GREGORIAN
METHOD:PUBLISH
UID:04c95bca-01b2-4e6f-a1cc-29475d3682b1
X-WR-CALDESC:Rocky Mountain Development Council\, Inc. is offering a three-
 part Homebuyer Education Class on August 30\, 31\, and September 1. The th
 ree sessions will run from 5:30-8:00 PM. To receive certification\, attend
 ance of three sessions is required.\n\nWHAT IS HOMEBUYER EDUCATION CLASS F
 OR?\nHomebuyer Education classes provide in-depth information on many aspe
 cts of homeownership including:\n- Budgeting\n- Finding a home\n- Choosing
  a lender/closing on a loan\n- Homeowner’s insurance\n- Home inspection & 
 maintenance\n- Energy savings\n\n* Please note that class registration is 
 nonrefundable. Registration also requires a 60-minute intake/counseling ap
 pointment prior to class. \n\n
X-WR-RELCALID:f7dd58425211f1dd7d1c4b7f3eefe4bb
X-WR-TIMEZONE:America/Denver
BEGIN:VTIMEZONE
TZID:America/Denver
BEGIN:STANDARD
TZNAME:MST
DTSTART:20211107T020000
TZOFFSETFROM:-0600
TZOFFSETTO:-0700
RDATE:20221106T020000
RDATE:20231105T020000
END:STANDARD
BEGIN:DAYLIGHT
TZNAME:MDT
DTSTART:20220313T020000
TZOFFSETFROM:-0700
TZOFFSETTO:-0600
RDATE:20230312T020000
RDATE:20240310T020000
END:DAYLIGHT
END:VTIMEZONE
BEGIN:VEVENT
UID:e2db6216-7467-4065-a379-27ecb117bbbb
DTSTAMP:20260422T071158Z
DESCRIPTION:Rocky Mountain Development Council\, Inc. is offering a three-p
 art Homebuyer Education Class on August 30\, 31\, and September 1. The thr
 ee sessions will run from 5:30-8:00 PM. To receive certification\, attenda
 nce of three sessions is required.\n\nWHAT IS HOMEBUYER EDUCATION CLASS FO
 R?\nHomebuyer Education classes provide in-depth information on many aspec
 ts of homeownership including:\n- Budgeting\n- Finding a home\n- Choosing 
 a lender/closing on a loan\n- Homeowner’s insurance\n- Home inspection & m
 aintenance\n- Energy savings\n\n* Please note that class registration is n
 onrefundable. Registration also requires a 60-minute intake/counseling app
 ointment prior to class. \n\n
DTSTART;TZID=America/Denver:20221025T173000
DTEND;TZID=America/Denver:20221027T203000
LOCATION:Virtual Event - A Zoom link will be emailed after registration.
SUMMARY:Rocky's Homebuyer Education Class - 3 Part
END:VEVENT
END:VCALENDAR
