BEGIN:VCALENDAR
VERSION:2.0
PRODID:-//www.rmdc.net//NONSGML kigkonsult.se iCalcreator 2.30.10//
CALSCALE:GREGORIAN
METHOD:PUBLISH
UID:aed10d09-d6d1-473c-811e-68887060f3de
X-WR-CALDESC:
X-WR-RELCALID:419c1a07d3676f26dd848f791951682f
X-WR-TIMEZONE:America/Denver
BEGIN:VTIMEZONE
TZID:America/Denver
BEGIN:STANDARD
TZNAME:MST
DTSTART:20221106T020000
TZOFFSETFROM:-0600
TZOFFSETTO:-0700
RDATE:20231105T020000
END:STANDARD
BEGIN:DAYLIGHT
TZNAME:MDT
DTSTART:20220313T020000
TZOFFSETFROM:-0700
TZOFFSETTO:-0600
RDATE:20230312T020000
RDATE:20240310T020000
END:DAYLIGHT
END:VTIMEZONE
BEGIN:VEVENT
UID:fcce92cf-1375-47a5-a1f3-8598bfa8c5cb
DTSTAMP:20260422T004344Z
DESCRIPTION:
DTSTART;TZID=America/Denver:20230214T123000
DTEND;TZID=America/Denver:20230214T143000
LOCATION:Helena Senior Center Parlor
SUMMARY:Hand and Foot
END:VEVENT
END:VCALENDAR
