BEGIN:VCALENDAR
VERSION:2.0
PRODID:-//www.rmdc.net//NONSGML kigkonsult.se iCalcreator 2.30.10//
CALSCALE:GREGORIAN
METHOD:PUBLISH
UID:0d2767a7-4103-4354-9497-c2b45f5806b0
X-WR-CALDESC:Rocky Mountain Development Council\, Inc. is offering two-part
  in-person Homebuyer Education Classes on February 18th and February 25th.
  The two classes will run from 10:00 am to 2:30 pm in the Neighborhood Cen
 ter Card Room. Light snacks will be provided along with a 'working' lunch.
  To receive certification\, attendance of three sessions is required.\n\nW
 HAT IS HOMEBUYER EDUCATION CLASS FOR?\nHomebuyer Education classes provide
  in-depth information on many aspects of homeownership including:\n- Budge
 ting\n- Finding a home\n- Choosing a lender/closing on a loan\n- Homeowner
 ’s insurance\n- Home inspection & maintenance\n- Energy savings\n\n* Pleas
 e note that class registration is nonrefundable. Registration also require
 s a 60-minute intake/counseling appointment prior to class. \n\n
X-WR-RELCALID:8393d6b6bfd5af3e79b0354c13c266a2
X-WR-TIMEZONE:America/Denver
BEGIN:VTIMEZONE
TZID:America/Denver
BEGIN:STANDARD
TZNAME:MST
DTSTART:20221106T020000
TZOFFSETFROM:-0600
TZOFFSETTO:-0700
RDATE:20231105T020000
END:STANDARD
BEGIN:DAYLIGHT
TZNAME:MDT
DTSTART:20220313T020000
TZOFFSETFROM:-0700
TZOFFSETTO:-0600
RDATE:20230312T020000
RDATE:20240310T020000
END:DAYLIGHT
END:VTIMEZONE
BEGIN:VEVENT
UID:5d4808d6-6b45-4213-af22-4a0d2f7b5741
DTSTAMP:20260422T004603Z
DESCRIPTION:Rocky Mountain Development Council\, Inc. is offering two-part 
 in-person Homebuyer Education Classes on February 18th and February 25th. 
 The two classes will run from 10:00 am to 2:30 pm in the Neighborhood Cent
 er Card Room. Light snacks will be provided along with a 'working' lunch. 
 To receive certification\, attendance of three sessions is required.\n\nWH
 AT IS HOMEBUYER EDUCATION CLASS FOR?\nHomebuyer Education classes provide 
 in-depth information on many aspects of homeownership including:\n- Budget
 ing\n- Finding a home\n- Choosing a lender/closing on a loan\n- Homeowner’
 s insurance\n- Home inspection & maintenance\n- Energy savings\n\n* Please
  note that class registration is nonrefundable. Registration also requires
  a 60-minute intake/counseling appointment prior to class. \n\n
DTSTART;TZID=America/Denver:20230218T100000
DTEND;TZID=America/Denver:20230225T143000
LOCATION:This is a two-part course taking place Saturday February 18\, and 
 Saturday February 25 at the Neighborhood Center Card Room.
SUMMARY:Rocky's In-Person Homebuyer Education Class - 2 part class
END:VEVENT
END:VCALENDAR
