BEGIN:VCALENDAR
VERSION:2.0
PRODID:-//www.rmdc.net//NONSGML kigkonsult.se iCalcreator 2.30.10//
CALSCALE:GREGORIAN
METHOD:PUBLISH
UID:552e1bc7-e375-4354-bdd8-27bec75c276b
X-WR-CALDESC:Rocky Mountain Development Council\, Inc. is offering a three-
 part Homebuyer Education Class from March 21st through March 23rd. The thr
 ee sessions will run from 5:30-8:00 PM. To receive certification\, attenda
 nce of three sessions is required.\n\nWHAT IS HOMEBUYER EDUCATION CLASS FO
 R?\nHomebuyer Education classes provide in-depth information on many aspec
 ts of homeownership including:\n- Budgeting\n- Finding a home\n- Choosing 
 a lender/closing on a loan\n- Homeowner’s insurance\n- Home inspection & m
 aintenance\n- Energy savings\n\n* Please note that class registration is n
 onrefundable. Registration also requires a 60-minute intake/counseling app
 ointment prior to class. \n\n
X-WR-RELCALID:f86daaa7964ece45653c36d85b2fa736
X-WR-TIMEZONE:America/Denver
BEGIN:VTIMEZONE
TZID:America/Denver
BEGIN:STANDARD
TZNAME:MST
DTSTART:20221106T020000
TZOFFSETFROM:-0600
TZOFFSETTO:-0700
RDATE:20231105T020000
END:STANDARD
BEGIN:DAYLIGHT
TZNAME:MDT
DTSTART:20230312T020000
TZOFFSETFROM:-0700
TZOFFSETTO:-0600
RDATE:20240310T020000
END:DAYLIGHT
END:VTIMEZONE
BEGIN:VEVENT
UID:d3752fca-5401-438f-b971-e99cc002b293
DTSTAMP:20260421T230702Z
DESCRIPTION:Rocky Mountain Development Council\, Inc. is offering a three-p
 art Homebuyer Education Class from March 21st through March 23rd. The thre
 e sessions will run from 5:30-8:00 PM. To receive certification\, attendan
 ce of three sessions is required.\n\nWHAT IS HOMEBUYER EDUCATION CLASS FOR
 ?\nHomebuyer Education classes provide in-depth information on many aspect
 s of homeownership including:\n- Budgeting\n- Finding a home\n- Choosing a
  lender/closing on a loan\n- Homeowner’s insurance\n- Home inspection & ma
 intenance\n- Energy savings\n\n* Please note that class registration is no
 nrefundable. Registration also requires a 60-minute intake/counseling appo
 intment prior to class. \n\n
DTSTART;TZID=America/Denver:20230321T173000
DTEND;TZID=America/Denver:20230323T203000
LOCATION:Virtual Event - A Zoom link will be emailed after registration.
SUMMARY:Virtual Homebuyer Education Class
END:VEVENT
END:VCALENDAR
