BEGIN:VCALENDAR
VERSION:2.0
PRODID:-//www.rmdc.net//NONSGML kigkonsult.se iCalcreator 2.30.10//
CALSCALE:GREGORIAN
METHOD:PUBLISH
UID:f5a64cf2-eac4-4b11-8989-cb262fbdabd7
X-WR-CALDESC:
X-WR-RELCALID:9b7c0cbd34b68a9c0adac72599eca7f1
X-WR-TIMEZONE:America/Denver
BEGIN:VTIMEZONE
TZID:America/Denver
BEGIN:STANDARD
TZNAME:MST
DTSTART:20221106T020000
TZOFFSETFROM:-0600
TZOFFSETTO:-0700
RDATE:20231105T020000
END:STANDARD
BEGIN:DAYLIGHT
TZNAME:MDT
DTSTART:20230312T020000
TZOFFSETFROM:-0700
TZOFFSETTO:-0600
RDATE:20240310T020000
END:DAYLIGHT
END:VTIMEZONE
BEGIN:VEVENT
UID:936f1ac0-19b1-421a-8cf7-5d3776e85cf8
DTSTAMP:20260421T212608Z
DESCRIPTION:
DTSTART;TZID=America/Denver:20230405T130000
DTEND;TZID=America/Denver:20230405T150000
LOCATION:Dining Room
SUMMARY:Bingo
END:VEVENT
END:VCALENDAR
