BEGIN:VCALENDAR
VERSION:2.0
PRODID:-//www.rmdc.net//NONSGML kigkonsult.se iCalcreator 2.30.10//
CALSCALE:GREGORIAN
METHOD:PUBLISH
UID:4c9debe7-9ce2-4800-9840-e4fec20e7b08
X-WR-CALDESC:
X-WR-RELCALID:50f47acf5add763d95a0355dbe6c3b24
X-WR-TIMEZONE:America/Denver
BEGIN:VTIMEZONE
TZID:America/Denver
BEGIN:STANDARD
TZNAME:MST
DTSTART:20221106T020000
TZOFFSETFROM:-0600
TZOFFSETTO:-0700
RDATE:20231105T020000
END:STANDARD
BEGIN:DAYLIGHT
TZNAME:MDT
DTSTART:20230312T020000
TZOFFSETFROM:-0700
TZOFFSETTO:-0600
RDATE:20240310T020000
END:DAYLIGHT
END:VTIMEZONE
BEGIN:VEVENT
UID:c36443a5-309c-4e93-bf9f-631f477363b2
DTSTAMP:20260421T213103Z
DESCRIPTION:
DTSTART;TZID=America/Denver:20230410T101500
DTEND;TZID=America/Denver:20230410T110000
LOCATION:Neighborhood Center Card Room
SUMMARY:Jennie's Arthritis Foundation Exercise Class
END:VEVENT
END:VCALENDAR
