BEGIN:VCALENDAR
VERSION:2.0
PRODID:-//www.rmdc.net//NONSGML kigkonsult.se iCalcreator 2.30.10//
CALSCALE:GREGORIAN
METHOD:PUBLISH
UID:efdec6b6-28e7-41c8-8c51-36ff87dbfc02
X-WR-CALDESC:
X-WR-RELCALID:1bb43d4b469a177b279d90a20ce0e9c5
X-WR-TIMEZONE:America/Denver
BEGIN:VTIMEZONE
TZID:America/Denver
BEGIN:STANDARD
TZNAME:MST
DTSTART:20221106T020000
TZOFFSETFROM:-0600
TZOFFSETTO:-0700
RDATE:20231105T020000
END:STANDARD
BEGIN:DAYLIGHT
TZNAME:MDT
DTSTART:20230312T020000
TZOFFSETFROM:-0700
TZOFFSETTO:-0600
RDATE:20240310T020000
END:DAYLIGHT
END:VTIMEZONE
BEGIN:VEVENT
UID:1b403149-c03f-4fdf-aafb-7874a05e868f
DTSTAMP:20260421T212557Z
DESCRIPTION:
DTSTART;TZID=America/Denver:20230420T094500
DTEND;TZID=America/Denver:20230420T111500
LOCATION:Neighborhood Center Dance Floor
SUMMARY:Line Dancing
END:VEVENT
END:VCALENDAR
