BEGIN:VCALENDAR
VERSION:2.0
PRODID:-//www.rmdc.net//NONSGML kigkonsult.se iCalcreator 2.30.10//
CALSCALE:GREGORIAN
METHOD:PUBLISH
UID:58f75509-5d69-480b-a5e3-e1ab8ca3f623
X-WR-CALDESC:
X-WR-RELCALID:11f2511c9ec62280d6f40d9a4eb3cb8b
X-WR-TIMEZONE:America/Denver
BEGIN:VTIMEZONE
TZID:America/Denver
BEGIN:STANDARD
TZNAME:MST
DTSTART:20221106T020000
TZOFFSETFROM:-0600
TZOFFSETTO:-0700
RDATE:20231105T020000
RDATE:20241103T020000
END:STANDARD
BEGIN:DAYLIGHT
TZNAME:MDT
DTSTART:20230312T020000
TZOFFSETFROM:-0700
TZOFFSETTO:-0600
RDATE:20240310T020000
END:DAYLIGHT
END:VTIMEZONE
BEGIN:VEVENT
UID:bfd79544-dc63-4393-86a4-197659c16179
DTSTAMP:20260421T195216Z
DESCRIPTION:
DTSTART;TZID=America/Denver:20230518T080000
DTEND;TZID=America/Denver:20230518T093000
LOCATION:200 South Cruse\, Helena\, MT 59601 US
SUMMARY:Coffee and Rolls
END:VEVENT
END:VCALENDAR
