BEGIN:VCALENDAR
VERSION:2.0
PRODID:-//www.rmdc.net//NONSGML kigkonsult.se iCalcreator 2.30.10//
CALSCALE:GREGORIAN
METHOD:PUBLISH
UID:eafbfdb7-160e-4dd6-a735-c76738acaeaf
X-WR-CALDESC:Rocky Mountain Development Council\, Inc. is offering a three-
 part Homebuyer Education Class from May 23 through May 25. The three sessi
 ons will run from 5:30-8:00 PM. To receive certification\, attendance of t
 hree sessions is required.\n\nWHAT IS HOMEBUYER EDUCATION CLASS FOR?\nHome
 buyer Education classes provide in-depth information on many aspects of ho
 meownership including:\n- Budgeting\n- Finding a home\n- Choosing a lender
 /closing on a loan\n- Homeowner’s insurance\n- Home inspection & maintenan
 ce\n- Energy savings\n\n* Please note that class registration is nonrefund
 able. Registration also requires a 60-minute intake/counseling appointment
  prior to class. \n\n
X-WR-RELCALID:0083fe7f057c9ce9702fc9604851dd61
X-WR-TIMEZONE:America/Denver
BEGIN:VTIMEZONE
TZID:America/Denver
BEGIN:STANDARD
TZNAME:MST
DTSTART:20221106T020000
TZOFFSETFROM:-0600
TZOFFSETTO:-0700
RDATE:20231105T020000
RDATE:20241103T020000
END:STANDARD
BEGIN:DAYLIGHT
TZNAME:MDT
DTSTART:20230312T020000
TZOFFSETFROM:-0700
TZOFFSETTO:-0600
RDATE:20240310T020000
END:DAYLIGHT
END:VTIMEZONE
BEGIN:VEVENT
UID:7f3f458a-642e-4e3a-9332-cba8798ae50b
DTSTAMP:20260421T194912Z
DESCRIPTION:Rocky Mountain Development Council\, Inc. is offering a three-p
 art Homebuyer Education Class from May 23 through May 25. The three sessio
 ns will run from 5:30-8:00 PM. To receive certification\, attendance of th
 ree sessions is required.\n\nWHAT IS HOMEBUYER EDUCATION CLASS FOR?\nHomeb
 uyer Education classes provide in-depth information on many aspects of hom
 eownership including:\n- Budgeting\n- Finding a home\n- Choosing a lender/
 closing on a loan\n- Homeowner’s insurance\n- Home inspection & maintenanc
 e\n- Energy savings\n\n* Please note that class registration is nonrefunda
 ble. Registration also requires a 60-minute intake/counseling appointment 
 prior to class. \n\n
DTSTART;TZID=America/Denver:20230523T173000
DTEND;TZID=America/Denver:20230525T203000
LOCATION:Virtual Event - A Zoom link will be emailed after registration.
SUMMARY:Virtual Homebuyer Education Class
END:VEVENT
END:VCALENDAR
