BEGIN:VCALENDAR
VERSION:2.0
PRODID:-//www.rmdc.net//NONSGML kigkonsult.se iCalcreator 2.30.10//
CALSCALE:GREGORIAN
METHOD:PUBLISH
UID:639b0bc7-82cf-4a1f-ae1d-03c774bc56c9
X-WR-CALDESC:
X-WR-RELCALID:2d34f0b536dbfc2b980a95ed61002c17
X-WR-TIMEZONE:America/Denver
BEGIN:VTIMEZONE
TZID:America/Denver
BEGIN:STANDARD
TZNAME:MST
DTSTART:20221106T020000
TZOFFSETFROM:-0600
TZOFFSETTO:-0700
RDATE:20231105T020000
RDATE:20241103T020000
END:STANDARD
BEGIN:DAYLIGHT
TZNAME:MDT
DTSTART:20230312T020000
TZOFFSETFROM:-0700
TZOFFSETTO:-0600
RDATE:20240310T020000
END:DAYLIGHT
END:VTIMEZONE
BEGIN:VEVENT
UID:364503a4-5d6b-4a04-a705-b8eb01612791
DTSTAMP:20260421T194953Z
DESCRIPTION:
DTSTART;TZID=America/Denver:20230530T130000
DTEND;TZID=America/Denver:20230530T160000
LOCATION:
SUMMARY:Pinochle Tournament
END:VEVENT
END:VCALENDAR
