BEGIN:VCALENDAR
VERSION:2.0
PRODID:-//www.rmdc.net//NONSGML kigkonsult.se iCalcreator 2.30.10//
CALSCALE:GREGORIAN
METHOD:PUBLISH
UID:2cb307e8-3997-4b3a-bdcf-b32b9a6c972e
X-WR-CALDESC:
X-WR-RELCALID:4e1083c4f386a4fa4636d4aafbeb8942
X-WR-TIMEZONE:America/Denver
BEGIN:VTIMEZONE
TZID:America/Denver
BEGIN:STANDARD
TZNAME:MST
DTSTART:20221106T020000
TZOFFSETFROM:-0600
TZOFFSETTO:-0700
RDATE:20231105T020000
RDATE:20241103T020000
END:STANDARD
BEGIN:DAYLIGHT
TZNAME:MDT
DTSTART:20230312T020000
TZOFFSETFROM:-0700
TZOFFSETTO:-0600
RDATE:20240310T020000
END:DAYLIGHT
END:VTIMEZONE
BEGIN:VEVENT
UID:e900a5a1-9cb9-4f58-9c0f-a21ea96dafd4
DTSTAMP:20260421T181844Z
DESCRIPTION:
DTSTART;TZID=America/Denver:20230611T130000
DTEND;TZID=America/Denver:20230611T160000
LOCATION:
SUMMARY:Pinochle
END:VEVENT
END:VCALENDAR
