BEGIN:VCALENDAR
VERSION:2.0
PRODID:-//www.rmdc.net//NONSGML kigkonsult.se iCalcreator 2.30.10//
CALSCALE:GREGORIAN
METHOD:PUBLISH
UID:b9a16247-5c2e-42a4-ae41-9476c572d1eb
X-WR-CALDESC:
X-WR-RELCALID:419c1d4efee879cc473e96e7ab8a393b
X-WR-TIMEZONE:America/Denver
BEGIN:VTIMEZONE
TZID:America/Denver
BEGIN:STANDARD
TZNAME:MST
DTSTART:20221106T020000
TZOFFSETFROM:-0600
TZOFFSETTO:-0700
RDATE:20231105T020000
RDATE:20241103T020000
END:STANDARD
BEGIN:DAYLIGHT
TZNAME:MDT
DTSTART:20230312T020000
TZOFFSETFROM:-0700
TZOFFSETTO:-0600
RDATE:20240310T020000
END:DAYLIGHT
END:VTIMEZONE
BEGIN:VEVENT
UID:04a37dd0-99e9-48c8-b4d3-27e6ece592f5
DTSTAMP:20260421T181913Z
DESCRIPTION:
DTSTART;TZID=America/Denver:20230627T130000
DTEND;TZID=America/Denver:20230627T160000
LOCATION:
SUMMARY:Pinochle
END:VEVENT
END:VCALENDAR
