BEGIN:VCALENDAR
VERSION:2.0
PRODID:-//www.rmdc.net//NONSGML kigkonsult.se iCalcreator 2.30.10//
CALSCALE:GREGORIAN
METHOD:PUBLISH
UID:1551f971-5048-4073-abc4-c36e2e9a1f39
X-WR-CALDESC:
X-WR-RELCALID:d89b160cd158c7678d5fcebc237700e3
X-WR-TIMEZONE:America/Denver
BEGIN:VTIMEZONE
TZID:America/Denver
BEGIN:STANDARD
TZNAME:MST
DTSTART:20221106T020000
TZOFFSETFROM:-0600
TZOFFSETTO:-0700
RDATE:20231105T020000
RDATE:20241103T020000
END:STANDARD
BEGIN:DAYLIGHT
TZNAME:MDT
DTSTART:20230312T020000
TZOFFSETFROM:-0700
TZOFFSETTO:-0600
RDATE:20240310T020000
END:DAYLIGHT
END:VTIMEZONE
BEGIN:VEVENT
UID:729c7d60-419d-47bf-959f-84eee5f2abf5
DTSTAMP:20260421T164412Z
DESCRIPTION:
DTSTART;TZID=America/Denver:20230702T130000
DTEND;TZID=America/Denver:20230702T160000
LOCATION:
SUMMARY:Pinochle
END:VEVENT
END:VCALENDAR
