BEGIN:VCALENDAR
VERSION:2.0
PRODID:-//www.rmdc.net//NONSGML kigkonsult.se iCalcreator 2.30.10//
CALSCALE:GREGORIAN
METHOD:PUBLISH
UID:8184b457-8515-4a92-b01f-96c3321a9116
X-WR-CALDESC:
X-WR-RELCALID:2f4031d32c32b9117f58a28f9a23a9bd
X-WR-TIMEZONE:America/Denver
BEGIN:VTIMEZONE
TZID:America/Denver
BEGIN:STANDARD
TZNAME:MST
DTSTART:20221106T020000
TZOFFSETFROM:-0600
TZOFFSETTO:-0700
RDATE:20231105T020000
RDATE:20241103T020000
END:STANDARD
BEGIN:DAYLIGHT
TZNAME:MDT
DTSTART:20230312T020000
TZOFFSETFROM:-0700
TZOFFSETTO:-0600
RDATE:20240310T020000
END:DAYLIGHT
END:VTIMEZONE
BEGIN:VEVENT
UID:bbedb675-4655-4a2e-9650-668d7d045d27
DTSTAMP:20260421T150823Z
DESCRIPTION:
DTSTART;TZID=America/Denver:20230806T130000
DTEND;TZID=America/Denver:20230806T160000
LOCATION:
SUMMARY:Pinochle
END:VEVENT
END:VCALENDAR
