BEGIN:VCALENDAR
VERSION:2.0
PRODID:-//www.rmdc.net//NONSGML kigkonsult.se iCalcreator 2.30.10//
CALSCALE:GREGORIAN
METHOD:PUBLISH
UID:0f060852-c2ff-493a-b126-84cd194c2484
X-WR-CALDESC:
X-WR-RELCALID:9d08c1509dcfe515374da4e944c0277c
X-WR-TIMEZONE:America/Denver
BEGIN:VTIMEZONE
TZID:America/Denver
BEGIN:STANDARD
TZNAME:MST
DTSTART:20221106T020000
TZOFFSETFROM:-0600
TZOFFSETTO:-0700
RDATE:20231105T020000
RDATE:20241103T020000
END:STANDARD
BEGIN:DAYLIGHT
TZNAME:MDT
DTSTART:20230312T020000
TZOFFSETFROM:-0700
TZOFFSETTO:-0600
RDATE:20240310T020000
END:DAYLIGHT
END:VTIMEZONE
BEGIN:VEVENT
UID:dde7a290-5d40-49e5-934b-d6454bed9f6e
DTSTAMP:20260421T151150Z
DESCRIPTION:
DTSTART;TZID=America/Denver:20230816T090000
DTEND;TZID=America/Denver:20230816T100000
LOCATION:Centennial Park
SUMMARY:Rocky Walkie Talkies
END:VEVENT
END:VCALENDAR
