BEGIN:VCALENDAR
VERSION:2.0
PRODID:-//www.rmdc.net//NONSGML kigkonsult.se iCalcreator 2.30.10//
CALSCALE:GREGORIAN
METHOD:PUBLISH
UID:d03fa868-ec59-496e-b98d-77cd95eef001
X-WR-CALDESC:
X-WR-RELCALID:6c102dc989b4aedce8fdf2edd2fbe9b9
X-WR-TIMEZONE:America/Denver
BEGIN:VTIMEZONE
TZID:America/Denver
BEGIN:STANDARD
TZNAME:MST
DTSTART:20221106T020000
TZOFFSETFROM:-0600
TZOFFSETTO:-0700
RDATE:20231105T020000
RDATE:20241103T020000
END:STANDARD
BEGIN:DAYLIGHT
TZNAME:MDT
DTSTART:20230312T020000
TZOFFSETFROM:-0700
TZOFFSETTO:-0600
RDATE:20240310T020000
END:DAYLIGHT
END:VTIMEZONE
BEGIN:VEVENT
UID:e22070a4-0c1a-4acb-a1be-f2bfc6ffac93
DTSTAMP:20260421T150854Z
DESCRIPTION:
DTSTART;TZID=America/Denver:20230829T130000
DTEND;TZID=America/Denver:20230829T160000
LOCATION:
SUMMARY:Pinochle
END:VEVENT
END:VCALENDAR
