BEGIN:VCALENDAR
VERSION:2.0
PRODID:-//www.rmdc.net//NONSGML kigkonsult.se iCalcreator 2.30.10//
CALSCALE:GREGORIAN
METHOD:PUBLISH
UID:47e6be7b-cfaf-4af6-a120-44f067712d63
X-WR-CALDESC:
X-WR-RELCALID:debe316b4bac4a60248a3d0428b66c15
X-WR-TIMEZONE:America/Denver
BEGIN:VTIMEZONE
TZID:America/Denver
BEGIN:STANDARD
TZNAME:MST
DTSTART:20221106T020000
TZOFFSETFROM:-0600
TZOFFSETTO:-0700
RDATE:20231105T020000
RDATE:20241103T020000
END:STANDARD
BEGIN:DAYLIGHT
TZNAME:MDT
DTSTART:20230312T020000
TZOFFSETFROM:-0700
TZOFFSETTO:-0600
RDATE:20240310T020000
RDATE:20250309T020000
END:DAYLIGHT
END:VTIMEZONE
BEGIN:VEVENT
UID:9e143b2b-f331-493c-bc84-57d6c28b3d3a
DTSTAMP:20260421T132203Z
DESCRIPTION:
DTSTART;TZID=America/Denver:20230920T143000
DTEND;TZID=America/Denver:20230920T163000
LOCATION:200 South Cruse\, Helena\, MT 59601 US
SUMMARY:Stepping On
END:VEVENT
END:VCALENDAR
