BEGIN:VCALENDAR
VERSION:2.0
PRODID:-//www.rmdc.net//NONSGML kigkonsult.se iCalcreator 2.30.10//
CALSCALE:GREGORIAN
METHOD:PUBLISH
UID:c1f40dce-0192-4fd2-b27d-069841e6f521
X-WR-CALDESC:
X-WR-RELCALID:1496dfa89a65c5358af1b4381380816e
X-WR-TIMEZONE:America/Denver
BEGIN:VTIMEZONE
TZID:America/Denver
BEGIN:STANDARD
TZNAME:MST
DTSTART:20221106T020000
TZOFFSETFROM:-0600
TZOFFSETTO:-0700
RDATE:20231105T020000
RDATE:20241103T020000
END:STANDARD
BEGIN:DAYLIGHT
TZNAME:MDT
DTSTART:20230312T020000
TZOFFSETFROM:-0700
TZOFFSETTO:-0600
RDATE:20240310T020000
RDATE:20250309T020000
END:DAYLIGHT
END:VTIMEZONE
BEGIN:VEVENT
UID:9a553ae7-d67a-4561-9725-8e655a819a08
DTSTAMP:20260421T132901Z
DESCRIPTION:
DTSTART;TZID=America/Denver:20230927T090000
DTEND;TZID=America/Denver:20230927T100000
LOCATION:Centennial Park
SUMMARY:Rocky Walkie Talkies
END:VEVENT
END:VCALENDAR
