BEGIN:VCALENDAR
VERSION:2.0
PRODID:-//www.rmdc.net//NONSGML kigkonsult.se iCalcreator 2.30.10//
CALSCALE:GREGORIAN
METHOD:PUBLISH
UID:01067b96-f676-4ce3-9e02-c8da4c2621b7
X-WR-CALDESC:
X-WR-RELCALID:1e07c6f56edb05a7c0507d2f5508bbdb
X-WR-TIMEZONE:America/Denver
BEGIN:VTIMEZONE
TZID:America/Denver
BEGIN:STANDARD
TZNAME:MST
DTSTART:20221106T020000
TZOFFSETFROM:-0600
TZOFFSETTO:-0700
RDATE:20231105T020000
RDATE:20241103T020000
END:STANDARD
BEGIN:DAYLIGHT
TZNAME:MDT
DTSTART:20230312T020000
TZOFFSETFROM:-0700
TZOFFSETTO:-0600
RDATE:20240310T020000
RDATE:20250309T020000
END:DAYLIGHT
END:VTIMEZONE
BEGIN:VEVENT
UID:6afe57d8-dc69-4483-9a24-f4a2d8e9de92
DTSTAMP:20260421T115429Z
DESCRIPTION:
DTSTART;TZID=America/Denver:20231003T130000
DTEND;TZID=America/Denver:20231003T160000
LOCATION:
SUMMARY:Pinochle
END:VEVENT
END:VCALENDAR
