BEGIN:VCALENDAR
VERSION:2.0
PRODID:-//www.rmdc.net//NONSGML kigkonsult.se iCalcreator 2.30.10//
CALSCALE:GREGORIAN
METHOD:PUBLISH
UID:fb85a89c-9aad-4e22-ab07-095b613c4b1a
X-WR-CALDESC:
X-WR-RELCALID:76c9743b24b892394b6b4e7aaa787b46
X-WR-TIMEZONE:America/Denver
BEGIN:VTIMEZONE
TZID:America/Denver
BEGIN:STANDARD
TZNAME:MST
DTSTART:20221106T020000
TZOFFSETFROM:-0600
TZOFFSETTO:-0700
RDATE:20231105T020000
RDATE:20241103T020000
END:STANDARD
BEGIN:DAYLIGHT
TZNAME:MDT
DTSTART:20230312T020000
TZOFFSETFROM:-0700
TZOFFSETTO:-0600
RDATE:20240310T020000
RDATE:20250309T020000
END:DAYLIGHT
END:VTIMEZONE
BEGIN:VEVENT
UID:8f68fe32-1027-4003-a464-64f76922c06b
DTSTAMP:20260421T115835Z
DESCRIPTION:
DTSTART;TZID=America/Denver:20231004T090000
DTEND;TZID=America/Denver:20231004T100000
LOCATION:Centennial Park
SUMMARY:Rocky Walkie Talkies
END:VEVENT
END:VCALENDAR
