BEGIN:VCALENDAR
VERSION:2.0
PRODID:-//www.rmdc.net//NONSGML kigkonsult.se iCalcreator 2.30.10//
CALSCALE:GREGORIAN
METHOD:PUBLISH
UID:84f0beee-168d-4e93-af30-614e285e91b4
X-WR-CALDESC:
X-WR-RELCALID:04ffb3fa2ff58ecc00302d25fc72a075
X-WR-TIMEZONE:America/Denver
BEGIN:VTIMEZONE
TZID:America/Denver
BEGIN:STANDARD
TZNAME:MST
DTSTART:20221106T020000
TZOFFSETFROM:-0600
TZOFFSETTO:-0700
RDATE:20231105T020000
RDATE:20241103T020000
END:STANDARD
BEGIN:DAYLIGHT
TZNAME:MDT
DTSTART:20230312T020000
TZOFFSETFROM:-0700
TZOFFSETTO:-0600
RDATE:20240310T020000
RDATE:20250309T020000
END:DAYLIGHT
END:VTIMEZONE
BEGIN:VEVENT
UID:c8905eb2-e3ba-4b3f-9210-a7f69ebcfbfb
DTSTAMP:20260421T114722Z
DESCRIPTION:
DTSTART;TZID=America/Denver:20231004T143000
DTEND;TZID=America/Denver:20231004T163000
LOCATION:200 South Cruse\, Helena\, MT 59601 US
SUMMARY:Stepping On
END:VEVENT
END:VCALENDAR
