BEGIN:VCALENDAR
VERSION:2.0
PRODID:-//www.rmdc.net//NONSGML kigkonsult.se iCalcreator 2.30.10//
CALSCALE:GREGORIAN
METHOD:PUBLISH
UID:d7eb053a-4b21-4235-b393-9f57633241ec
X-WR-CALDESC:Rocky Mountain Development Council\, Inc. is offering a two-pa
 rt Homebuyer Education Class on October 28\, and November 4. The two sessi
 ons will run from 10:00 AM to 2:00 PM. To receive certification\, attendan
 ce at both sessions is required.\n\nWHAT IS HOMEBUYER EDUCATION CLASS FOR?
 \nHomebuyer Education classes provide in-depth information on many aspects
  of homeownership including:\n- Budgeting\n- Finding a home\n- Choosing a 
 lender/closing on a loan\n- Homeowner’s insurance\n- Home inspection & mai
 ntenance\n- Energy savings\n\n* Please note that class registration is non
 refundable. Registration also requires a 60-minute intake/counseling appoi
 ntment prior to class. \n\n
X-WR-RELCALID:9104c82fe4cae912d6b3c4030e4e7418
X-WR-TIMEZONE:America/Denver
BEGIN:VTIMEZONE
TZID:America/Denver
BEGIN:STANDARD
TZNAME:MST
DTSTART:20221106T020000
TZOFFSETFROM:-0600
TZOFFSETTO:-0700
RDATE:20231105T020000
RDATE:20241103T020000
END:STANDARD
BEGIN:DAYLIGHT
TZNAME:MDT
DTSTART:20230312T020000
TZOFFSETFROM:-0700
TZOFFSETTO:-0600
RDATE:20240310T020000
RDATE:20250309T020000
END:DAYLIGHT
END:VTIMEZONE
BEGIN:VEVENT
UID:a4bfaae1-5dc3-46e1-bdf2-2f3e859111eb
DTSTAMP:20260421T115710Z
DESCRIPTION:Rocky Mountain Development Council\, Inc. is offering a two-par
 t Homebuyer Education Class on October 28\, and November 4. The two sessio
 ns will run from 10:00 AM to 2:00 PM. To receive certification\, attendanc
 e at both sessions is required.\n\nWHAT IS HOMEBUYER EDUCATION CLASS FOR?
 \nHomebuyer Education classes provide in-depth information on many aspects
  of homeownership including:\n- Budgeting\n- Finding a home\n- Choosing a 
 lender/closing on a loan\n- Homeowner’s insurance\n- Home inspection & mai
 ntenance\n- Energy savings\n\n* Please note that class registration is non
 refundable. Registration also requires a 60-minute intake/counseling appoi
 ntment prior to class. \n\n
DTSTART;TZID=America/Denver:20231028T100000
DTEND;TZID=America/Denver:20231028T140000
LOCATION:200 South Cruse\, Helena\, MT 59601 US
SUMMARY:October In Person Homebuyer Education Class
END:VEVENT
END:VCALENDAR
