BEGIN:VCALENDAR
VERSION:2.0
PRODID:-//www.rmdc.net//NONSGML kigkonsult.se iCalcreator 2.30.10//
CALSCALE:GREGORIAN
METHOD:PUBLISH
UID:b4780e5c-b13e-4efe-a100-6cf390d14758
X-WR-CALDESC:
X-WR-RELCALID:253abdd3bd9fd6af763d135181fbbafa
X-WR-TIMEZONE:America/Denver
BEGIN:VTIMEZONE
TZID:America/Denver
BEGIN:STANDARD
TZNAME:MST
DTSTART:20231105T020000
TZOFFSETFROM:-0600
TZOFFSETTO:-0700
RDATE:20241103T020000
END:STANDARD
BEGIN:DAYLIGHT
TZNAME:MDT
DTSTART:20230312T020000
TZOFFSETFROM:-0700
TZOFFSETTO:-0600
RDATE:20240310T020000
RDATE:20250309T020000
END:DAYLIGHT
END:VTIMEZONE
BEGIN:VEVENT
UID:2745fbdb-bc3b-4fe0-9158-e784a966089e
DTSTAMP:20260421T102139Z
DESCRIPTION:
DTSTART;TZID=America/Denver:20231112T130000
DTEND;TZID=America/Denver:20231112T160000
LOCATION:
SUMMARY:Pinochle
END:VEVENT
END:VCALENDAR
