BEGIN:VCALENDAR
VERSION:2.0
PRODID:-//www.rmdc.net//NONSGML kigkonsult.se iCalcreator 2.30.10//
CALSCALE:GREGORIAN
METHOD:PUBLISH
UID:47f72b8d-0962-4a2b-8494-201614f3bbcd
X-WR-CALDESC:
X-WR-RELCALID:05fc5af9e4a4092ac65d05f30fd93622
X-WR-TIMEZONE:America/Denver
BEGIN:VTIMEZONE
TZID:America/Denver
BEGIN:STANDARD
TZNAME:MST
DTSTART:20231105T020000
TZOFFSETFROM:-0600
TZOFFSETTO:-0700
RDATE:20241103T020000
END:STANDARD
BEGIN:DAYLIGHT
TZNAME:MDT
DTSTART:20230312T020000
TZOFFSETFROM:-0700
TZOFFSETTO:-0600
RDATE:20240310T020000
RDATE:20250309T020000
END:DAYLIGHT
END:VTIMEZONE
BEGIN:VEVENT
UID:61b6b331-9119-4e83-a145-cd45ba7591e8
DTSTAMP:20260421T095935Z
DESCRIPTION:
DTSTART;TZID=America/Denver:20231114T130000
DTEND;TZID=America/Denver:20231114T160000
LOCATION:
SUMMARY:Pinochle
END:VEVENT
END:VCALENDAR
