BEGIN:VCALENDAR
VERSION:2.0
PRODID:-//www.rmdc.net//NONSGML kigkonsult.se iCalcreator 2.30.10//
CALSCALE:GREGORIAN
METHOD:PUBLISH
UID:c9eeb160-601b-419b-9fad-8ed586349738
X-WR-CALDESC:
X-WR-RELCALID:987f77bce80169455a759b0a7b3756be
X-WR-TIMEZONE:America/Denver
BEGIN:VTIMEZONE
TZID:America/Denver
BEGIN:STANDARD
TZNAME:MST
DTSTART:20231105T020000
TZOFFSETFROM:-0600
TZOFFSETTO:-0700
RDATE:20241103T020000
END:STANDARD
BEGIN:DAYLIGHT
TZNAME:MDT
DTSTART:20230312T020000
TZOFFSETFROM:-0700
TZOFFSETTO:-0600
RDATE:20240310T020000
RDATE:20250309T020000
END:DAYLIGHT
END:VTIMEZONE
BEGIN:VEVENT
UID:b1dc876f-b9cb-40ff-bf77-e46e7156ba90
DTSTAMP:20260421T085642Z
DESCRIPTION:
DTSTART;TZID=America/Denver:20231205T130000
DTEND;TZID=America/Denver:20231205T160000
LOCATION:
SUMMARY:Pinochle
END:VEVENT
END:VCALENDAR
