BEGIN:VCALENDAR
VERSION:2.0
PRODID:-//www.rmdc.net//NONSGML kigkonsult.se iCalcreator 2.30.10//
CALSCALE:GREGORIAN
METHOD:PUBLISH
UID:9d35196a-dfc1-4cdb-a12d-d0e71c477863
X-WR-CALDESC:Rocky Mountain Development Council\, Inc. is offering a three-
 part Homebuyer Education Class from December 19 through December 21. The t
 hree sessions will run from 5:30-8:00 PM. To receive certification\, atten
 dance of three sessions is required.\n\nWHAT IS HOMEBUYER EDUCATION CLASS 
 FOR?\nHomebuyer Education classes provide in-depth information on many asp
 ects of homeownership including:\n- Budgeting\n- Finding a home\n- Choosin
 g a lender/closing on a loan\n- Homeowner’s insurance\n- Home inspection &
  maintenance\n- Energy savings\n\n* Please note that class registration is
  nonrefundable. Registration also requires a 60-minute intake/counseling a
 ppointment prior to class. \n\n
X-WR-RELCALID:7b8e78cc99b48eb6da516c4280761fe2
X-WR-TIMEZONE:America/Denver
BEGIN:VTIMEZONE
TZID:America/Denver
BEGIN:STANDARD
TZNAME:MST
DTSTART:20231105T020000
TZOFFSETFROM:-0600
TZOFFSETTO:-0700
RDATE:20241103T020000
END:STANDARD
BEGIN:DAYLIGHT
TZNAME:MDT
DTSTART:20230312T020000
TZOFFSETFROM:-0700
TZOFFSETTO:-0600
RDATE:20240310T020000
RDATE:20250309T020000
END:DAYLIGHT
END:VTIMEZONE
BEGIN:VEVENT
UID:7f64b7fc-fa9c-4489-8ff7-31c61017b489
DTSTAMP:20260421T085313Z
DESCRIPTION:Rocky Mountain Development Council\, Inc. is offering a three-p
 art Homebuyer Education Class from December 19 through December 21. The th
 ree sessions will run from 5:30-8:00 PM. To receive certification\, attend
 ance of three sessions is required.\n\nWHAT IS HOMEBUYER EDUCATION CLASS F
 OR?\nHomebuyer Education classes provide in-depth information on many aspe
 cts of homeownership including:\n- Budgeting\n- Finding a home\n- Choosing
  a lender/closing on a loan\n- Homeowner’s insurance\n- Home inspection & 
 maintenance\n- Energy savings\n\n* Please note that class registration is 
 nonrefundable. Registration also requires a 60-minute intake/counseling ap
 pointment prior to class. \n\n
DTSTART;TZID=America/Denver:20231219T173000
DTEND;TZID=America/Denver:20231221T203000
LOCATION:Virtual Event - A Zoom link will be emailed after registration.
SUMMARY:Virtual Homebuyer Education Class
END:VEVENT
END:VCALENDAR
