BEGIN:VCALENDAR
VERSION:2.0
PRODID:-//www.rmdc.net//NONSGML kigkonsult.se iCalcreator 2.30.10//
CALSCALE:GREGORIAN
METHOD:PUBLISH
UID:76455dab-272e-41d0-9063-33cc8bd96ece
X-WR-CALDESC:Join us for a gentle exercise class!
X-WR-RELCALID:59399ee54d8eb4dfc75a120147899a58
X-WR-TIMEZONE:America/Denver
BEGIN:VTIMEZONE
TZID:America/Denver
BEGIN:STANDARD
TZNAME:MST
DTSTART:20261101T020000
TZOFFSETFROM:-0600
TZOFFSETTO:-0700
RDATE:20271107T020000
RDATE:20281105T020000
END:STANDARD
BEGIN:DAYLIGHT
TZNAME:MDT
DTSTART:20270314T020000
TZOFFSETFROM:-0700
TZOFFSETTO:-0600
RDATE:20280312T020000
RDATE:20290311T020000
END:DAYLIGHT
END:VTIMEZONE
BEGIN:VEVENT
UID:2b606eb2-14a7-46d8-95bb-b198e1df7710
DTSTAMP:20260421T085609Z
DESCRIPTION:Join us for a gentle exercise class!
DTSTART;TZID=America/Denver:20270922T103000
DTEND;TZID=America/Denver:20270922T110000
LOCATION:200 South Cruse\, Helena\, MT 59601 US
SUMMARY:Chi Gong
END:VEVENT
END:VCALENDAR
