BEGIN:VCALENDAR
VERSION:2.0
PRODID:-//www.rmdc.net//NONSGML kigkonsult.se iCalcreator 2.30.10//
CALSCALE:GREGORIAN
METHOD:PUBLISH
UID:8cafeb50-4b90-49d1-bc33-e6b34a361506
X-WR-CALDESC:This is a FREE class where you can preserve memories and creat
 e works of art through scrapbooking. This class is open to the public\, an
 d all materials are provided.
X-WR-RELCALID:787a6c7d0efcd59de6574daae3c88932
X-WR-TIMEZONE:America/Denver
BEGIN:VTIMEZONE
TZID:America/Denver
BEGIN:STANDARD
TZNAME:MST
DTSTART:20261101T020000
TZOFFSETFROM:-0600
TZOFFSETTO:-0700
RDATE:20271107T020000
RDATE:20281105T020000
END:STANDARD
BEGIN:DAYLIGHT
TZNAME:MDT
DTSTART:20270314T020000
TZOFFSETFROM:-0700
TZOFFSETTO:-0600
RDATE:20280312T020000
RDATE:20290311T020000
END:DAYLIGHT
END:VTIMEZONE
BEGIN:VEVENT
UID:b3316d1d-1318-428e-9f7e-147ff689a395
DTSTAMP:20260421T084316Z
DESCRIPTION:This is a FREE class where you can preserve memories and create
  works of art through scrapbooking. This class is open to the public\, and
  all materials are provided.
DTSTART;TZID=America/Denver:20270923T040000
DTEND;TZID=America/Denver:20270923T040001
LOCATION:200 South Cruse\, Helena\, AL 59601 US
SUMMARY:Scrapbooking with JoJo
END:VEVENT
END:VCALENDAR
