BEGIN:VCALENDAR
VERSION:2.0
PRODID:-//www.rmdc.net//NONSGML kigkonsult.se iCalcreator 2.30.10//
CALSCALE:GREGORIAN
METHOD:PUBLISH
UID:4d2260d7-682e-4b11-bc5d-2189d74444d4
X-WR-CALDESC:Learn how to use those pesky phones\, tablets\, and laptops in
  this tech-focused class hosted at the Neighborhood Center.
X-WR-RELCALID:b3d880ceb009cdbf683ea7792b66a2c3
X-WR-TIMEZONE:America/Denver
BEGIN:VTIMEZONE
TZID:America/Denver
BEGIN:STANDARD
TZNAME:MST
DTSTART:20261101T020000
TZOFFSETFROM:-0600
TZOFFSETTO:-0700
RDATE:20271107T020000
RDATE:20281105T020000
END:STANDARD
BEGIN:DAYLIGHT
TZNAME:MDT
DTSTART:20270314T020000
TZOFFSETFROM:-0700
TZOFFSETTO:-0600
RDATE:20280312T020000
RDATE:20290311T020000
END:DAYLIGHT
END:VTIMEZONE
BEGIN:VEVENT
UID:1423f4b6-0141-400f-9f5b-dbfc6d400d4e
DTSTAMP:20260421T085442Z
DESCRIPTION:Learn how to use those pesky phones\, tablets\, and laptops in 
 this tech-focused class hosted at the Neighborhood Center.
DTSTART;TZID=America/Denver:20271018T123000
DTEND;TZID=America/Denver:20271018T133000
LOCATION:200 South Cruse\, Helena\, AL 59601 US
SUMMARY:How the Tech Does this this Work?
END:VEVENT
END:VCALENDAR
