BEGIN:VCALENDAR
VERSION:2.0
PRODID:-//www.rmdc.net//NONSGML kigkonsult.se iCalcreator 2.30.10//
CALSCALE:GREGORIAN
METHOD:PUBLISH
UID:4be05330-450e-4391-aad5-d6958135f56d
X-WR-CALDESC:
X-WR-RELCALID:d0fdd7fe366ff97c22dab38e84d17385
X-WR-TIMEZONE:America/Denver
BEGIN:VTIMEZONE
TZID:America/Denver
BEGIN:STANDARD
TZNAME:MST
DTSTART:20261101T020000
TZOFFSETFROM:-0600
TZOFFSETTO:-0700
RDATE:20271107T020000
RDATE:20281105T020000
END:STANDARD
BEGIN:DAYLIGHT
TZNAME:MDT
DTSTART:20270314T020000
TZOFFSETFROM:-0700
TZOFFSETTO:-0600
RDATE:20280312T020000
RDATE:20290311T020000
END:DAYLIGHT
END:VTIMEZONE
BEGIN:VEVENT
UID:a54c53aa-07ce-49f9-b99c-79252970e4ab
DTSTAMP:20260421T085625Z
DESCRIPTION:
DTSTART;TZID=America/Denver:20271024T130000
DTEND;TZID=America/Denver:20271024T160000
LOCATION:
SUMMARY:Pinochle
END:VEVENT
END:VCALENDAR
