BEGIN:VCALENDAR
VERSION:2.0
PRODID:-//www.rmdc.net//NONSGML kigkonsult.se iCalcreator 2.30.10//
CALSCALE:GREGORIAN
METHOD:PUBLISH
UID:8d134eae-d5df-46ac-9fe6-6dfbb82738e0
X-WR-CALDESC:The first Wednesday the Senior Advisory Council holds a monthl
 y meeting from 9:30 am to 10:30 am. If you are interested in becoming a me
 mber of the Senior Advisory Council contact Bill Péna at Bpena@rmdc.net or
  by phone at 406-457-7372.
X-WR-RELCALID:375b6ba6e8119bb4374494cc4bf41867
X-WR-TIMEZONE:America/Denver
BEGIN:VTIMEZONE
TZID:America/Denver
BEGIN:STANDARD
TZNAME:MST
DTSTART:20271107T020000
TZOFFSETFROM:-0600
TZOFFSETTO:-0700
RDATE:20281105T020000
END:STANDARD
BEGIN:DAYLIGHT
TZNAME:MDT
DTSTART:20270314T020000
TZOFFSETFROM:-0700
TZOFFSETTO:-0600
RDATE:20280312T020000
RDATE:20290311T020000
END:DAYLIGHT
END:VTIMEZONE
BEGIN:VEVENT
UID:2e98ee25-b10f-4c41-93dd-15851d6fc3a2
DTSTAMP:20260421T140910Z
DESCRIPTION:The first Wednesday the Senior Advisory Council holds a monthly
  meeting from 9:30 am to 10:30 am. If you are interested in becoming a mem
 ber of the Senior Advisory Council contact Bill Péna at Bpena@rmdc.net or 
 by phone at 406-457-7372.
DTSTART;TZID=America/Denver:20271103T093000
DTEND;TZID=America/Denver:20271103T103000
LOCATION:200 South Cruse\, Helena\, MT 59601 US
SUMMARY:Senior Advisory Council Meeting
END:VEVENT
END:VCALENDAR
