BEGIN:VCALENDAR
VERSION:2.0
PRODID:-//www.rmdc.net//NONSGML kigkonsult.se iCalcreator 2.30.10//
CALSCALE:GREGORIAN
METHOD:PUBLISH
UID:2c804091-919b-423d-ae9d-deefed7ff86c
X-WR-CALDESC:
X-WR-RELCALID:116844486f61f94576a7a8f52de66250
X-WR-TIMEZONE:America/Denver
BEGIN:VTIMEZONE
TZID:America/Denver
BEGIN:STANDARD
TZNAME:MST
DTSTART:20271107T020000
TZOFFSETFROM:-0600
TZOFFSETTO:-0700
RDATE:20281105T020000
END:STANDARD
BEGIN:DAYLIGHT
TZNAME:MDT
DTSTART:20270314T020000
TZOFFSETFROM:-0700
TZOFFSETTO:-0600
RDATE:20280312T020000
RDATE:20290311T020000
END:DAYLIGHT
END:VTIMEZONE
BEGIN:VEVENT
UID:36777684-5593-43a0-b015-5463f16c6fa7
DTSTAMP:20260421T101853Z
DESCRIPTION:
DTSTART;TZID=America/Denver:20271108T130000
DTEND;TZID=America/Denver:20271108T160000
LOCATION:Dance Floor
SUMMARY:Bridge
END:VEVENT
END:VCALENDAR
