BEGIN:VCALENDAR
VERSION:2.0
PRODID:-//www.rmdc.net//NONSGML kigkonsult.se iCalcreator 2.30.10//
CALSCALE:GREGORIAN
METHOD:PUBLISH
UID:88ccf789-e88a-4a26-91d6-eca32888251f
X-WR-CALDESC:
X-WR-RELCALID:83693b06be99188d27a0e9f6d9dcc914
X-WR-TIMEZONE:America/Denver
BEGIN:VTIMEZONE
TZID:America/Denver
BEGIN:STANDARD
TZNAME:MST
DTSTART:20271107T020000
TZOFFSETFROM:-0600
TZOFFSETTO:-0700
RDATE:20281105T020000
END:STANDARD
BEGIN:DAYLIGHT
TZNAME:MDT
DTSTART:20270314T020000
TZOFFSETFROM:-0700
TZOFFSETTO:-0600
RDATE:20280312T020000
RDATE:20290311T020000
END:DAYLIGHT
END:VTIMEZONE
BEGIN:VEVENT
UID:95f7a160-fe37-4a74-8e14-4f1c94b6d86c
DTSTAMP:20260421T102028Z
DESCRIPTION:
DTSTART;TZID=America/Denver:20271116T091500
DTEND;TZID=America/Denver:20271116T111500
LOCATION:Neighborhood Center Dance Floor
SUMMARY:Line Dancing
END:VEVENT
END:VCALENDAR
