BEGIN:VCALENDAR
VERSION:2.0
PRODID:-//www.rmdc.net//NONSGML kigkonsult.se iCalcreator 2.30.10//
CALSCALE:GREGORIAN
METHOD:PUBLISH
UID:f92df1c2-26f9-4547-83ce-1d3ec62df1d3
X-WR-CALDESC:
X-WR-RELCALID:4370df2654e122e16c1d099bdf401f3e
X-WR-TIMEZONE:America/Denver
BEGIN:VTIMEZONE
TZID:America/Denver
BEGIN:STANDARD
TZNAME:MST
DTSTART:20271107T020000
TZOFFSETFROM:-0600
TZOFFSETTO:-0700
RDATE:20281105T020000
END:STANDARD
BEGIN:DAYLIGHT
TZNAME:MDT
DTSTART:20270314T020000
TZOFFSETFROM:-0700
TZOFFSETTO:-0600
RDATE:20280312T020000
RDATE:20290311T020000
END:DAYLIGHT
END:VTIMEZONE
BEGIN:VEVENT
UID:88f4c886-0c58-497c-83ae-61cef6ad96ff
DTSTAMP:20260421T102208Z
DESCRIPTION:
DTSTART;TZID=America/Denver:20271116T130000
DTEND;TZID=America/Denver:20271116T160000
LOCATION:
SUMMARY:Pinochle
END:VEVENT
END:VCALENDAR
