BEGIN:VCALENDAR
VERSION:2.0
PRODID:-//www.rmdc.net//NONSGML kigkonsult.se iCalcreator 2.30.10//
CALSCALE:GREGORIAN
METHOD:PUBLISH
UID:ed290f76-607c-4995-ae1b-d7271ab9b377
X-WR-CALDESC:This is a FREE class where you can preserve memories and creat
 e works of art through scrapbooking. This class is open to the public\, an
 d all materials are provided.
X-WR-RELCALID:3d4e3c2a2d1cf5b5334e09b2e9b295ac
X-WR-TIMEZONE:America/Denver
BEGIN:VTIMEZONE
TZID:America/Denver
BEGIN:STANDARD
TZNAME:MST
DTSTART:20271107T020000
TZOFFSETFROM:-0600
TZOFFSETTO:-0700
RDATE:20281105T020000
END:STANDARD
BEGIN:DAYLIGHT
TZNAME:MDT
DTSTART:20270314T020000
TZOFFSETFROM:-0700
TZOFFSETTO:-0600
RDATE:20280312T020000
RDATE:20290311T020000
END:DAYLIGHT
END:VTIMEZONE
BEGIN:VEVENT
UID:c284953c-d4ae-4203-8a02-87729f070f57
DTSTAMP:20260421T100438Z
DESCRIPTION:This is a FREE class where you can preserve memories and create
  works of art through scrapbooking. This class is open to the public\, and
  all materials are provided.
DTSTART;TZID=America/Denver:20271118T040000
DTEND;TZID=America/Denver:20271118T040001
LOCATION:200 South Cruse\, Helena\, AL 59601 US
SUMMARY:Scrapbooking with JoJo
END:VEVENT
END:VCALENDAR
