BEGIN:VCALENDAR
VERSION:2.0
PRODID:-//www.rmdc.net//NONSGML kigkonsult.se iCalcreator 2.30.10//
CALSCALE:GREGORIAN
METHOD:PUBLISH
UID:2fd44b1f-880f-4ca1-8d7f-d66177b304ea
X-WR-CALDESC:
X-WR-RELCALID:702830ebb3226b267235cb7d56d6079d
X-WR-TIMEZONE:America/Denver
BEGIN:VTIMEZONE
TZID:America/Denver
BEGIN:STANDARD
TZNAME:MST
DTSTART:20271107T020000
TZOFFSETFROM:-0600
TZOFFSETTO:-0700
RDATE:20281105T020000
END:STANDARD
BEGIN:DAYLIGHT
TZNAME:MDT
DTSTART:20270314T020000
TZOFFSETFROM:-0700
TZOFFSETTO:-0600
RDATE:20280312T020000
RDATE:20290311T020000
END:DAYLIGHT
END:VTIMEZONE
BEGIN:VEVENT
UID:4e20fcbc-ff16-4d14-a965-268de104e8df
DTSTAMP:20260421T101938Z
DESCRIPTION:
DTSTART;TZID=America/Denver:20271121T130000
DTEND;TZID=America/Denver:20271121T160000
LOCATION:
SUMMARY:Pinochle
END:VEVENT
END:VCALENDAR
