BEGIN:VCALENDAR
VERSION:2.0
PRODID:-//www.rmdc.net//NONSGML kigkonsult.se iCalcreator 2.30.10//
CALSCALE:GREGORIAN
METHOD:PUBLISH
UID:4b153b56-11da-4464-bf6a-7825dfdf48df
X-WR-CALDESC:
X-WR-RELCALID:cb330fb648f4e28d4507ebed0f5d90ce
X-WR-TIMEZONE:America/Denver
BEGIN:VTIMEZONE
TZID:America/Denver
BEGIN:STANDARD
TZNAME:MST
DTSTART:20271107T020000
TZOFFSETFROM:-0600
TZOFFSETTO:-0700
RDATE:20281105T020000
END:STANDARD
BEGIN:DAYLIGHT
TZNAME:MDT
DTSTART:20270314T020000
TZOFFSETFROM:-0700
TZOFFSETTO:-0600
RDATE:20280312T020000
RDATE:20290311T020000
END:DAYLIGHT
END:VTIMEZONE
BEGIN:VEVENT
UID:f56f78f6-2012-4a65-964e-fc91612e932c
DTSTAMP:20260421T100410Z
DESCRIPTION:
DTSTART;TZID=America/Denver:20271128T130000
DTEND;TZID=America/Denver:20271128T160000
LOCATION:
SUMMARY:Pinochle
END:VEVENT
END:VCALENDAR
