BEGIN:VCALENDAR
VERSION:2.0
PRODID:-//www.rmdc.net//NONSGML kigkonsult.se iCalcreator 2.30.10//
CALSCALE:GREGORIAN
METHOD:PUBLISH
UID:a05df15a-ce11-4fcb-ac2b-7488d5282236
X-WR-CALDESC:Join us for a gentle exercise class!
X-WR-RELCALID:40269eee012eff38a127a61b393eef1b
X-WR-TIMEZONE:America/Denver
BEGIN:VTIMEZONE
TZID:America/Denver
BEGIN:STANDARD
TZNAME:MST
DTSTART:20271107T020000
TZOFFSETFROM:-0600
TZOFFSETTO:-0700
RDATE:20281105T020000
END:STANDARD
BEGIN:DAYLIGHT
TZNAME:MDT
DTSTART:20270314T020000
TZOFFSETFROM:-0700
TZOFFSETTO:-0600
RDATE:20280312T020000
RDATE:20290311T020000
END:DAYLIGHT
END:VTIMEZONE
BEGIN:VEVENT
UID:657cb369-9243-4b3d-b30c-ab4ea2cbed13
DTSTAMP:20260421T113711Z
DESCRIPTION:Join us for a gentle exercise class!
DTSTART;TZID=America/Denver:20271215T103000
DTEND;TZID=America/Denver:20271215T110000
LOCATION:200 South Cruse\, Helena\, MT 59601 US
SUMMARY:Chi Gong
END:VEVENT
END:VCALENDAR
