BEGIN:VCALENDAR
VERSION:2.0
PRODID:-//www.rmdc.net//NONSGML kigkonsult.se iCalcreator 2.30.10//
CALSCALE:GREGORIAN
METHOD:PUBLISH
UID:7c700b62-1519-4795-a0cf-36c898d4c01a
X-WR-CALDESC:
X-WR-RELCALID:bdf90c82b9155bb8beb2100502005c47
X-WR-TIMEZONE:America/Denver
BEGIN:VTIMEZONE
TZID:America/Denver
BEGIN:STANDARD
TZNAME:MST
DTSTART:20271107T020000
TZOFFSETFROM:-0600
TZOFFSETTO:-0700
RDATE:20281105T020000
END:STANDARD
BEGIN:DAYLIGHT
TZNAME:MDT
DTSTART:20270314T020000
TZOFFSETFROM:-0700
TZOFFSETTO:-0600
RDATE:20280312T020000
RDATE:20290311T020000
END:DAYLIGHT
END:VTIMEZONE
BEGIN:VEVENT
UID:2bbe36dc-42a2-41a6-b65d-c82480be0bfd
DTSTAMP:20260421T113542Z
DESCRIPTION:
DTSTART;TZID=America/Denver:20271221T130000
DTEND;TZID=America/Denver:20271221T160000
LOCATION:
SUMMARY:Pinochle
END:VEVENT
END:VCALENDAR
