BEGIN:VCALENDAR
VERSION:2.0
PRODID:-//www.rmdc.net//NONSGML kigkonsult.se iCalcreator 2.30.10//
CALSCALE:GREGORIAN
METHOD:PUBLISH
UID:cab521e6-0f7c-4cc2-831d-ef6b8b6e2444
X-WR-CALDESC:Join us for a gentle exercise class!
X-WR-RELCALID:f30c215733d4e7094fc0c50e487cc63b
X-WR-TIMEZONE:America/Denver
BEGIN:VTIMEZONE
TZID:America/Denver
BEGIN:STANDARD
TZNAME:MST
DTSTART:20271107T020000
TZOFFSETFROM:-0600
TZOFFSETTO:-0700
RDATE:20281105T020000
END:STANDARD
BEGIN:DAYLIGHT
TZNAME:MDT
DTSTART:20270314T020000
TZOFFSETFROM:-0700
TZOFFSETTO:-0600
RDATE:20280312T020000
RDATE:20290311T020000
END:DAYLIGHT
END:VTIMEZONE
BEGIN:VEVENT
UID:85bb0d19-7c90-4836-90e0-ba854d2d6e4c
DTSTAMP:20260421T113703Z
DESCRIPTION:Join us for a gentle exercise class!
DTSTART;TZID=America/Denver:20271222T103000
DTEND;TZID=America/Denver:20271222T110000
LOCATION:200 South Cruse\, Helena\, MT 59601 US
SUMMARY:Chi Gong
END:VEVENT
END:VCALENDAR
