BEGIN:VCALENDAR
VERSION:2.0
PRODID:-//www.rmdc.net//NONSGML kigkonsult.se iCalcreator 2.30.10//
CALSCALE:GREGORIAN
METHOD:PUBLISH
UID:e69f20d0-cc7d-40be-9bb6-6db0540a30ae
X-WR-CALDESC:
X-WR-RELCALID:07760d446296a40e241ff89201578b09
X-WR-TIMEZONE:America/Denver
BEGIN:VTIMEZONE
TZID:America/Denver
BEGIN:STANDARD
TZNAME:MST
DTSTART:20271107T020000
TZOFFSETFROM:-0600
TZOFFSETTO:-0700
RDATE:20281105T020000
END:STANDARD
BEGIN:DAYLIGHT
TZNAME:MDT
DTSTART:20270314T020000
TZOFFSETFROM:-0700
TZOFFSETTO:-0600
RDATE:20280312T020000
RDATE:20290311T020000
END:DAYLIGHT
END:VTIMEZONE
BEGIN:VEVENT
UID:43c5e31f-183e-452a-8e1e-49c7f0277c35
DTSTAMP:20260421T113540Z
DESCRIPTION:
DTSTART;TZID=America/Denver:20271226T130000
DTEND;TZID=America/Denver:20271226T160000
LOCATION:
SUMMARY:Pinochle
END:VEVENT
END:VCALENDAR
