BEGIN:VCALENDAR
VERSION:2.0
PRODID:-//www.rmdc.net//NONSGML kigkonsult.se iCalcreator 2.30.10//
CALSCALE:GREGORIAN
METHOD:PUBLISH
UID:8371e9a8-543f-46a9-9dcb-4232ea7c9f43
X-WR-CALDESC:
X-WR-RELCALID:d0afb734fb3d6f74c2503ccdc124df61
X-WR-TIMEZONE:America/Denver
BEGIN:VTIMEZONE
TZID:America/Denver
BEGIN:STANDARD
TZNAME:MST
DTSTART:20271107T020000
TZOFFSETFROM:-0600
TZOFFSETTO:-0700
RDATE:20281105T020000
END:STANDARD
BEGIN:DAYLIGHT
TZNAME:MDT
DTSTART:20270314T020000
TZOFFSETFROM:-0700
TZOFFSETTO:-0600
RDATE:20280312T020000
RDATE:20290311T020000
END:DAYLIGHT
END:VTIMEZONE
BEGIN:VEVENT
UID:03e92261-13c3-42fb-ae0a-38b59040461e
DTSTAMP:20260421T131431Z
DESCRIPTION:
DTSTART;TZID=America/Denver:20280102T130000
DTEND;TZID=America/Denver:20280102T160000
LOCATION:
SUMMARY:Pinochle
END:VEVENT
END:VCALENDAR
